Workbook

Sheet Checklist
B2: For the attention of Independent Assessors: This page should be included in the conformity assessment
B4: Retailer & Brand Member Submission Form
B5: v2.2 (2026 Cotton Consumption Submission Form - updated February 2026)
B8: Retailer and Brand Members must complete this submission form upon application and as part of their annual cotton fibre consumption reporting to Better Cotton Initiative (BCI). Please note, only the 'Checklist' page will be reviewed as part of the Independent Assessment.
B10: To complete: 1. Open and read the guidance in the document “Measuring Cotton Consumption: Requirements & Guidance”. 2. Complete this ‘Checklist’ sheet. 3. Complete the ‘Scale up tool’ sheet. 4. Review your estimated fees in the 'Cost estimate tool'.
B12: Section 1: Retailer & Brand Member details
B14: Reference | C14: Question | D14: Your Answer | E14: Additional Information
B15: 1.1 | C15: Retailer & Brand Member name | E15: Your organisation's name as it appears on your membership.
B16: 1.2 | C16: Date submitted to BCI | E16: The date you send your finalised form. Format: DD Month YYYY.
B17: 1.3 | C17: Data timeframe & type | E17: Specify the 12-month reporting period (start and end dates), type (e.g., financial year, calendar year), and state any changes from previous submissions.
B18: 1.4 | C18: Responsible person & role | E18: Person who is responsible for collecting, measuring & submitting data, and their role. If this is managed by more than one person, please list all people.
B19: 1.5 | C19: Data source(s) | E19: E.g. Purchase Order, Enterprise Resource Planning, Product Lifecycle Management database(s).
B20: 1.6 | C20: Product data type | E20: Specify the product data type used. It is strongly recommended to use product purchase data (see Requirement 3e in "Measuring Cotton Consumption: Requirements & Guidance").
B21: 1.7 | C21: Total product units | E21: E.g. 1 million pairs of jeans and 200,000 T-shirts would equal 1.2 million product units.
B22: 1.8 | C22: List of brands included | E22: List all the brands included in your cotton consumption. These should be ALL brands owned by the member company.
B23: 1.9 | C23: List of divisions or major business areas included | E23: Specify ALL cotton using areas of your business. E.g. Apparel, childrenswear, fabric, menswear, homeware, womenswear.
B24: 1.1 | C24: Licensed products | E24: Specify Yes/No. All products sold under a licensing agreement that feature your branding should be included (see Requirement 3d). If not included, please add further details in Section 4.
B25: 1.11 | C25: Goods not for resale | E25: Specify Yes/No (see Requirement 3g). If included, please add further details in section 4.
B26: 1.12 | C26: Business changes that impact cotton consumption | E26: E.g. Recent acquisitions or divestitures.
B28: Section 2: Measurement details for the total cotton fibre weight
B30: Please list the total cotton fibre measurement for each cotton type sourced in your past 12-month timeframe.
B31: Please note: Better Cotton Initiative is not responsible for the accuracy or verification of data related to certified cotton schemes (i.e cottton eligible for VBF deductions).
B33: Reference | C33: Cotton Type | D33: Weight (metric tonnes of cotton fibre) | E33: Additional Details
B34: 2.1 | C34: Cotton sourced as BCI Cotton | E34: Cotton sourced as BCI Cotton is for existing BCI members only - if you are not yet a BCI member, please leave this row blank. Include both Mass Balance BCI Cotton and Traceable BCI Cotton volumes.
B35: 2.2 | C35: Non-BCI Cotton | E35: Cotton that was not produced by BCI farmers or cotton eligible for VBF deductions.
B36: 2.3 | C36: Cotton eligible for VBF deductions: | E36: Cotton eligible for VBF deductions include all cotton sourced from ISEAL Community Members
B37: 2.4 | C37: Cotton Connect
B38: 2.5 | C38: Fairtrade International
B39: 2.6 | C39: Fair Trade USA
B40: 2.7 | C40: GOTS
B41: 2.8 | C41: OCS
B42: 2.9 | C42: U.S. Cotton Trust Protocol
B43: 2.1 | C43: Pre-consumer recycled
B44: 2.11 | C44: Post-consumer recycled
C45: Total (for Membership Fees) | D45: =SUM(D34:D44) -> 0 | E45: (Total of all cotton types)
C46: Total (for Volume Based Fees) | D46: =SUM(D34:D35) -> 0 | E46: (Total excluding cotton eligible for VBF deductions)
B49: Section 3: Excluded Products
B51: Please list all product volumes that are excluded under requirement 3h of "Measuring Cotton Consumption: Requirements & Guidance". Products may be grouped together by business area or type.
B52: Under " Excluded Product(s)" please replace the current values with the names of the excluded product(s), product range(s) or business area(s).
B53: Under "Additional Details" please specify the units used for the "Estimated Impact", e.g. metric tonnes of cotton fibre or % of your overall cotton measurement.
...

Sheet Scale-up tool
A2: This page is not applicable for Independent Assessment
B4: Please complete the information below, which is used to calculate the costs in the coming years. Once completed, the estimated cost will be shown in the 'Cost estimate tool' tab.
B7: Section 5. Retailer and Brand Fees
B8: The below questions help estimate the Member Fees, please choose from the dropdown options available.
B10: Reference | C10: Question | D10: Answer | E10: Additional Information
B11: 5.1 | C11: Reason for completing the form | E11: Choose from the dropdown options to select the reason for completing the submission form.
B12: 5.2 | C12: Membership size category | E12: Select your membership size category from the dropdown options. The membership size category is determined by your total cotton sourcing volumes, and it informs the membership fee paid on application and the renewal date. New BCI members can use the separate calculator tool to find out the membership size category.
B13: 5.3 | C13: Pre-paid VBF 2025 (existing members only) | E13: Existing members only: Enter the total amount of your Pre-paid VBF 2025 invoice. If this cell is left blank, the estimated cost for Net VBF will be calculated based on the information provided in the Checklist.
B14: OPTIONAL
B15: 5.4 | C15: Traceability activation fee | E15: Choose from the dropdown options. This is a one-off fee, paid by Retailer and Brand Members who want to start sourcing Traceable BCI Cotton. It is optional to activate Traceability.
B17: Section 6. Retailer and Brand sourcing targets | F17: {=_xlfn.IFS( (E23+E24+E25)>1, "Total sourcing target exceeds 100% - please correct estimate", (F23+F24+F25)>1, "Total sourcing target exceeds 100% - please correct estimate", (G23+G24+G25)>1, "Total sourcing target exceeds 100% - please correct estimate", (H23+H24+H25)>1, "Total sourcing target exceeds 100% - please correct estimate", (D23+D24+D25)>1, "Total sourcing target exceeds 100% - please correct estimate", TRUE, "" )}
B18: Please enter your cotton sourcing volumes and targets for the next 5 years. This information helps estimate your fees and supports Better Cotton Initiative in planning future field-level funding.
B19: {=_xlfn.IFS(D11="Annual submission","The targets you provide are non-contractual. Please note: If targets are left blank, your recent year’s actual sourcing % will be used to estimate for the next 5 years.", D11="Application", "Targets provided are non-contractual. Please note: If targets are left blank, we’ll assume: Year 1 BCI Cotton = 10%, increasing by 10% each year until reaching 50% in Year 5.")} -> #N/A
B20: Targets will be visible in myBetterCotton where you can view your sourcing progress against them throughout the year.
B21: Reference | C21: Type of Cotton | D21: 2026 | E21: 2027 | F21: 2028 | G21: 2029 | H21: 2030 | I21: 2031 | J21: Additional Information
B22: 6.1 | C22: Total cotton sourcing in MT | J22: Input your total cotton consumption forecasted in MT
B23: 6.2 | C23: Cotton eligible for VBF deductions % | J23: Input the % of your total cotton consumption that you plan to source as identity cotton. Cotton eligible for VBF deductions includes cotton grown by ISEAL Community Members. You can find the information in Measuring Cotton Consumption: Requirements & Guidance.
B24: 6.3 | C24: Mass Balance BCI Cotton % | J24: Input the % of your total cotton consumption that you plan to source as Mass Balance BCI Cotton
B25: 6.4 | C25: Traceable BCI Cotton % | J25: Input the % of your total cotton consumption that you plan to source as Traceable BCI Cotton
B27: The scale up tool is structured around the calendar year (January–December). This is because Better Cotton Initiative collects sourcing data and issues invoices based on calendar year totals, for consistency in how we measure and report progress across all members. However, we understand that some organisations operate on a different 12-month cycle, such as a financial year. You are welcome to submit target sourcing data based on your preferred past 12-month period (e.g. April-March) provided it aligns with the calendar year in which you are submitting. For example, the 2026 targets can then serve as a baseline for your 2026–2027 financial year sourcing plan.
B28: Proceed to the next tab to see the cost estimate.

Sheet Cost estimate tool
A2: This page is not applicable for Independent Assessment
B3: Please see the BCI Retailer and Brand Member Invoicing FAQs for more information on fee cycles.
B5: Section 7. Total cotton volumes
B6: This section provides a breakdown of all cotton types and volumes in Metric Tonnes (MT). This data is used to provide your estimated cost calculations and is populated from the information in the Checklist and Scale-up tool.
B8: Reference | C8: Type of Cotton in MT | D8: Year | J8: Additional Information
D9: 2026 | E9: 2027 | F9: 2028 | G9: 2029 | H9: 2030 | I9: 2031 | J9: Breakdown of cotton types sourced in your 12-month timeframe (set in the calendar year you submit the data).
B10: 7.1 | C10: Non-BCI Cotton sourcing (MT) | D10: =Calculation!G5 -> 0 | E10: =Calculation!H5 -> 0 | F10: =Calculation!I5 -> 0 | G10: =Calculation!J5 -> 0 | H10: =Calculation!K5 -> 0 | I10: =Calculation!L5 -> 0 | J10: Total volume of cotton that was not produced by BCI farmers or cotton eligible for VBF deductions.
B11: 7.2 | C11: Total BCI Cotton sourcing (MT) | D11: =IF('Scale-up tool'!D11="Application","",Calculation!G6) -> 0 | E11: =Calculation!H6 -> 0 | F11: =Calculation!I6 -> 0 | G11: =Calculation!J6 -> 0 | H11: =Calculation!K6 -> 0 | I11: =Calculation!L6 -> 0 | J11: Total volume of BCI Cotton (Mass Balance and Traceable).
B12: 7.2.1 | C12: Mass Balance BCI Cotton sourcing (MT) | D12: =Calculation!G7 -> 0 | E12: =Calculation!H7 -> 0 | F12: =Calculation!I7 -> 0 | G12: =Calculation!J7 -> 0 | H12: =Calculation!K7 -> 0 | I12: =Calculation!L7 -> 0 | J12: Total volume of Mass Balance BCI Cotton.
B13: 7.2.2 | C13: Traceable BCI Cotton sourcing (MT) | D13: =Calculation!G8 -> 0 | E13: =Calculation!H8 -> 0 | F13: =Calculation!I8 -> 0 | G13: =Calculation!J8 -> 0 | H13: =Calculation!K8 -> 0 | I13: =Calculation!L8 -> 0 | J13: Total volume of Traceable BCI Cotton.
B14: 7.3 | C14: Cotton eligible for VBF deductions (MT) | D14: =Calculation!G9 -> 0 | E14: =Calculation!H9 -> 0 | F14: =Calculation!I9 -> 0 | G14: =Calculation!J9 -> 0 | H14: =Calculation!K9 -> 0 | I14: =Calculation!L9 -> 0 | J14: Total volume of cotton eligible for VBF deductions. This includes sourced from ISEAL Community Members and recycled cotton.
B15: 7.4 | C15: Total Cotton Sourcing (MT) for Membership Fees | D15: =Calculation!G4 -> 0 | E15: =Calculation!H4 -> 0 | F15: =Calculation!I4 -> 0 | G15: =Calculation!J4 -> 0 | H15: =Calculation!K4 -> 0 | I15: =Calculation!L4 -> 0 | J15: Total of all cotton types.
B16: 7.5 | C16: Total Cotton Sourcing (MT) for VBF Fees | D16: =Calculation!G10 -> 0 | E16: =Calculation!H10 -> 0 | F16: =Calculation!I10 -> 0 | G16: =Calculation!J10 -> 0 | H16: =Calculation!K10 -> 0 | I16: =Calculation!L10 -> 0 | J16: Total of BCI Cotton and Non-BCI Cotton only, excludes cotton eligible for VBF deduction.
B19: Section 8. Volume Based Fee estimate by calendar year
B20: This section provides the estimated total Volume Based Fees for a single sourcing year (January 1 - December 31).
B21: The Volume Based Fees in this section are estimates based on the sourcing figures you input into the Checklist and the Scale-up tool tabs. You can review the summary of the volumes used for calculation in Section 7. The actual invoice amounts for these years will be calculated using BCP sourcing data against your reported baseline and will be confirmed with you before invoicing.
B23: Reference | C23: Type of fee | D23: Sourcing Year (Jan - Dec) | J23: Additional information
D24: 2026 | E24: 2027 | F24: 2028 | G24: 2029 | H24: 2030 | I24: 2031
B25: 8.1 | C25: % of total cotton sourcing sourced as BCI Cotton | D25: =Calculation!G11 -> - | E25: =Calculation!H11 -> - | F25: =Calculation!I11 -> - | G25: =Calculation!J11 -> - | H25: =Calculation!K11 -> - | I25: =Calculation!L11 -> - | J25: The % of total cotton sourcing, sourced as BCI Cotton (Mass Balance and Traceable).
B26: 8.2 | C26: VBF rate per MT of BCI Cotton sourced | D26: =Calculation!G16 -> - | E26: =Calculation!H16 -> - | F26: =Calculation!I16 -> - | G26: =Calculation!J16 -> - | H26: =Calculation!K16 -> - | I26: =Calculation!L16 -> - | J26: This rate is determined by your BCI Cotton sourcing volumes as a percentage against your total.
B27: 8.3 | C27: Gross VBF | D27: =Calculation!G18 -> - | E27: =Calculation!H18 -> - | F27: =Calculation!I18 -> - | G27: =Calculation!J18 -> - | H27: =Calculation!K18 -> - | I27: =Calculation!L18 -> - | J27: Total VBF for the calendar year.
B29: Section 9. Volume based fee estimate by payment year
B30: This section shows the estimated total fees based on the calendar year in which invoices are paid.
B31: The Volume Based Fees in this section are based on the sourcing figures you input into the Checklist and the Scale-up tool tabs. You can see the summary of volumes used for the calculation in Section 7. The actual invoice amounts will be calculated using BCP sourcing data against your total volumes reported for 2025 sourcing and will be confirmed with you before invoicing.
B33: Reference | C33: Type of fee | D33: Calendar year payment is made | J33: Additional information
D34: 2026 | E34: 2027 | F34: 2028 | G34: 2029 | H34: 2030 | I34: 2031
B35: 9.1 | C35: Pre-paid VBF | D35: =IF('Scale-up tool'!D11="Application",_xlfn.XLOOKUP('Scale-up tool'!D12,Calculation!A5:A9,Calculation!B5:B9),"Refer to your 2025 sourcing report for previous year's payments") -> Refer to your 2025 sourcing report for previous year's payments | E35: =Calculation!H19 -> - | F35: =Calculation!I19 -> - | G35: =Calculation!J19 -> - | H35: =Calculation!K19 -> - | I35: =Calculation!L19 -> - | J35: Pre-paid VBF to be paid for the upcoming sourcing year (75% of the previous year's Gross VBF). In your first year of membership, the Pre-paid VBF is replaced with a one-off farmer contribution equal to your membership fee.
B36: 9.2 | C36: Net VBF | E36: =Calculation!G20 -> - | F36: =Calculation!H20 -> - | G36: =Calculation!I20 -> - | H36: =Calculation!J20 -> - | I36: =Calculation!K20 -> - | J36: Net VBF to be paid for the previous sourcing year, ending 31 December (Gross VBF minus Pre-paid VBF).
B37: 9.3 | C37: Membership Fee | D37: =IF('Scale-up tool'!D11="Application",Calculation!G22,"") | E37: =Calculation!H22 -> 7545 | F37: =Calculation!I22 -> 7545 | G37: =Calculation!J22 -> 7545 | H37: =Calculation!K22 -> 7545 | I37: =Calculation!L22 -> 7545 | J37: Membership fee, paid annualy on your renewal date.
B38: OPTIONAL
B39: 9.4 | C39: TRC Activation (one-off fee) | D39: =Calculation!G24 | E39: =Calculation!H24 | F39: =Calculation!I24 | G39: =Calculation!J24 | H39: =Calculation!K24 | I39: =Calculation!L24 | J39: One-off fee, paid by BCI Retailer and Brand Members who want to start sourcing Traceable BCI Cotton.
B40: 9.5 | C40: Total | D40: =IF('Scale-up tool'!D11="Application",SUM(D35:D39),"Relevant for Applications only") -> Relevant for Applications only | E40: =SUM(E35:E39) -> 7545 | F40: =SUM(F35:F39) -> 7545 | G40: =SUM(G35:G39) -> 7545 | H40: =SUM(H35:H39) -> 7545 | I40: =SUM(I35:I39) -> 7545 | J40: Sum of all fees in the calendar year in which they are paid.
B43: Section 10. Potential additional costs
B45: Reference | C45: Type of cost | D45: Frequency | E45: Additional information
B46: 10.1 | C46: Traceability activation (paid to BCI) | D46: one-off fee | E46: Members who wish to source Traceable BCI Cotton must first pay a one-off activation fee. This is a one-off fee, paid after submitting the activation form. The full list of fees can be found here.
B47: 10.2 | C47: Independent Assessment (paid to the Assessor) | D47: every 3 years | E47: Members in Small to Very Large categories must complete a Conformity Assessment every three years; Very Small Members only need this if making Sourcing Declaration Claims. Full guidance is available here.
B48: 10.3 | C48: Certification (paid to the Certification Body) | D48: every 3 years | E48: Members who source Traceable BCI Cotton and wish to use BCI B2C Label, must get certified by a Certification Body, due every three years. Full guidance documents can be found here.

Sheet Methodology Guidance
B2: Calculation Methodology Guide
B5: Volume Based Fees rate table | J5: Relative Procurement or Relative Sourcing
C6: Relative Procurement
B7: Absolute Procurement | C7: < 20% | D7: ≥ 20% | E7: ≥ 40% | F7: ≥ 60% | G7: ≥ 80% | H7: 1 | J7: This is the percentage of cotton lint/fibre sourced as BCI Cotton (both Mass Balance BCI Cotton and Traceable BCI Cotton) compared to the total cotton sourcing for VBF rate (this is the total cotton sourcing reduced by cotton eligible for VBF deduction).
B8: ≤ 200 MT | C8: 18.2 | D8: 17.15 | E8: 15.6 | F8: 14.55 | G8: 14.05 | H8: 13.55
B9: > 200 - 1,000 MT | C9: 17.15 | D9: 15.6 | E9: 14.55 | F9: 13.55 | G9: 12.5 | H9: 11.95
B10: > 1,000 - 3,000 MT | C10: 15.6 | D10: 14.55 | E10: 13.55 | F10: 11.95 | G10: 11.45 | H10: 10.95
B11: > 3,000 - 5,000 MT | C11: 15.1 | D11: 14.05 | E11: 12.5 | F11: 11.45 | G11: 10.95 | H11: 10.4 | J11: Total Cotton Sourcing (MT) for VBF Fees | L11: / | M11: Total Better Cotton Sourcing (MT) | O11: = | P11: Relative Procurement
B12: > 5,000 - 25,000 MT | C12: 14.55 | D12: 13.55 | E12: 11.95 | F12: 10.95 | G12: 10.4 | H12: 9.9
B13: > 25,000 - 75,000 MT | C13: 14.05 | D13: 12.5 | E13: 11.45 | F13: 10.4 | G13: 9.9 | H13: 9.35
B14: > 75,000 - 150,000 MT | C14: 13.55 | D14: 12.5 | E14: 11.45 | F14: 10.4 | G14: 9.9 | H14: 9.35
B15: > 150,000 - 300,000 MT | C15: 10.9 | D15: 9.9 | E15: 8.35 | F15: 7.3 | G15: 6.75 | H15: 6.25
B16: > 300,000 MT | C16: 9.9 | D16: 8.35 | E16: 7.3 | F16: 6.75 | G16: 6.25 | H16: 5.7 | J16: Absolute Procurement or Absolute Sourcing
J17: This is the total BCI Cotton sourcing in MT. Includes Mass Balance BCI Cotton and Traceable BCI Cotton sourcing.
J21: VBF Rate | L21: x | M21: Total Better Cotton Sourcing | O21: = | P21: Gross Volume Based Fee
J26: Pre Paid Volume Based Fee Invoice: PP VBF
J28: Part of the total Gross Volume Based Fee, paid ahead of sourcing. Calculated based on the previous year's Gross Volume Based Fee.
J32: PREVIOUS YEAR Gross Volume Based Fee | L32: x | M32: 0.75 | O32: = | P32: PP VBF
J37: Net Volume Based Fee Invoice: Net VBF
J39: The balance of the Gross Volume Based Fee for the current sourcing season.
J42: Gross Volume Based Fee | L42: - | M42: PP VBF | O42: = | P42: NET VBF

Sheet Calculation
A1: Formulas and Calculation data | O1: Rate ID | P1: VBF Rate
O2: 1a | P2: 18.2
B3: Membership Fee | C3: Traceability Activation Fee | G3: 2026 | H3: 2027 | I3: 2028 | J3: 2029 | K3: 2030 | L3: 2031 | O3: 1b | P3: 17.15
A4: No | C4: 0 | F4: Total Cotton MT | G4: =Checklist!D45 -> 0 | H4: =Checklist!D45 -> 0 | I4: =IF('Scale-up tool'!F22="",Checklist!$D$45,'Scale-up tool'!F22) -> 0 | J4: =IF('Scale-up tool'!G22="",Checklist!$D$45,'Scale-up tool'!G22) -> 0 | K4: =IF('Scale-up tool'!H22="",Checklist!$D$45,'Scale-up tool'!H22) -> 0 | L4: =IF('Scale-up tool'!I22="",Checklist!$D$45,'Scale-up tool'!I22) -> 0 | O4: 1c | P4: 15.6
A5: Very Small | B5: 7545 | C5: 6000 | F5: Non BCI Cotton MT | G5: =IF(G6="N/A",G4-G9,G4-(G6+G9)) -> 0 | H5: =H4-(H6+H9) -> 0 | I5: =I4-(I6+I9) -> 0 | J5: =J4-(J6+J9) -> 0 | K5: =K4-(K6+K9) -> 0 | L5: =L4-(L6+L9) -> 0 | O5: 1d | P5: 15.1
A6: Small | B6: 13170 | C6: 13000 | F6: BCI Cotton MT | G6: =IF('Scale-up tool'!D11="Application",Calculation!H6,Checklist!D34) -> 0 | H6: =IF(H7+H8=0,$G6,('Scale-up tool'!E22*'Scale-up tool'!E24)+('Scale-up tool'!E22*'Scale-up tool'!E25)) -> 0 | I6: =IF(I7+I8=0,$G6,('Scale-up tool'!F22*'Scale-up tool'!F24)+('Scale-up tool'!F22*'Scale-up tool'!F25)) -> 0 | J6: =IF(J7+J8=0,$G6,('Scale-up tool'!G22*'Scale-up tool'!G24)+('Scale-up tool'!G22*'Scale-up tool'!G25)) -> 0 | K6: =IF(K7+K8=0,$G6,('Scale-up tool'!H22*'Scale-up tool'!H24)+('Scale-up tool'!H22*'Scale-up tool'!H25)) -> 0 | L6: =IF(L7+L8=0,$G6,('Scale-up tool'!I22*'Scale-up tool'!I24)+('Scale-up tool'!I22*'Scale-up tool'!I25)) -> 0 | O6: 1e | P6: 14.55
A7: Medium | B7: 23945 | C7: 33000 | F7: Mass Balance | G7: ='Scale-up tool'!D22*'Scale-up tool'!D24 -> 0 | H7: ='Scale-up tool'!E22*'Scale-up tool'!E24 -> 0 | I7: ='Scale-up tool'!F22*'Scale-up tool'!F24 -> 0 | J7: ='Scale-up tool'!G22*'Scale-up tool'!G24 -> 0 | K7: ='Scale-up tool'!H22*'Scale-up tool'!H24 -> 0 | L7: ='Scale-up tool'!I22*'Scale-up tool'!I24 -> 0 | O7: 1f | P7: 14.05
A8: Large | B8: 40110 | C8: 70000 | F8: Physical | G8: ='Scale-up tool'!D22*'Scale-up tool'!D25 -> 0 | H8: ='Scale-up tool'!E22*'Scale-up tool'!E25 -> 0 | I8: ='Scale-up tool'!F22*'Scale-up tool'!F25 -> 0 | J8: ='Scale-up tool'!G22*'Scale-up tool'!G25 -> 0 | K8: ='Scale-up tool'!H22*'Scale-up tool'!H25 -> 0 | L8: ='Scale-up tool'!I22*'Scale-up tool'!I25 -> 0 | O8: 1g | P8: 13.55
A9: Very Large | B9: 59860 | C9: 110000 | F9: Cotton eligible for VBF deductions MT | G9: =SUM(Checklist!D37:D44) -> 0 | H9: =IF('Scale-up tool'!D23=0,Calculation!$G9,('Scale-up tool'!D22*'Scale-up tool'!D23)) -> 0 | I9: =IF('Scale-up tool'!F23=0,Calculation!$G9,('Scale-up tool'!F22*'Scale-up tool'!F23)) -> 0 | J9: =IF('Scale-up tool'!G23=0,Calculation!$G9,('Scale-up tool'!G22*'Scale-up tool'!G23)) -> 0 | K9: =IF('Scale-up tool'!H23=0,Calculation!$G9,('Scale-up tool'!H22*'Scale-up tool'!H23)) -> 0 | L9: =IF('Scale-up tool'!I23=0,Calculation!$G9,('Scale-up tool'!I22*'Scale-up tool'!I23)) -> 0 | O9: 1h | P9: 10.9
F10: Total VBF MT | G10: =G4-G9 -> 0 | H10: =H4-H9 -> 0 | I10: =I4-I9 -> 0 | J10: =J4-J9 -> 0 | K10: =K4-K9 -> 0 | L10: =L4-L9 -> 0 | O10: 1i | P10: 9.9
F11: BCI Cotton % vs Total | G11: =IFERROR(IF(G6="N/A","N/A",G6/G4),"-") -> - | H11: =IFERROR(IF(H6="N/A","N/A",H6/H4),"-") -> - | I11: =IFERROR(IF(I6="N/A","N/A",I6/I4),"-") -> - | J11: =IFERROR(IF(J6="N/A","N/A",J6/J4),"-") -> - | K11: =IFERROR(IF(K6="N/A","N/A",K6/K4),"-") -> - | L11: =IFERROR(IF(L6="N/A","N/A",L6/L4),"-") -> -
F12: BCI Cotton % vs VBF | G12: =IFERROR(IF(G6="N/A","N/A",G6/G10),"-") -> - | H12: =IFERROR(IF(H6="N/A","N/A",H6/H10),"-") -> - | I12: =IFERROR(IF(I6="N/A","N/A",I6/I10),"-") -> - | J12: =IFERROR(IF(J6="N/A","N/A",J6/J10),"-") -> - | K12: =IFERROR(IF(K6="N/A","N/A",K6/K10),"-") -> - | L12: =IFERROR(IF(L6="N/A","N/A",L6/L10),"-") -> - | O12: 2a | P12: 17.15
F13: Relative | G13: =IFERROR(IF(G12="N/A","1",LOOKUP(G12,{0,0.2,0.4,0.6,0.8,1},{1,2,3,4,5,6})),"-") -> - | H13: =IFERROR(IF(H12="N/A","1",LOOKUP(H12,{0,0.2,0.4,0.6,0.8,1},{1,2,3,4,5,6})),"-") -> - | I13: =IFERROR(IF(I12="N/A","1",LOOKUP(I12,{0,0.2,0.4,0.6,0.8,1},{1,2,3,4,5,6})),"-") -> - | J13: =IFERROR(IF(J12="N/A","1",LOOKUP(J12,{0,0.2,0.4,0.6,0.8,1},{1,2,3,4,5,6})),"-") -> - | K13: =IFERROR(IF(K12="N/A","1",LOOKUP(K12,{0,0.2,0.4,0.6,0.8,1},{1,2,3,4,5,6})),"-") -> - | L13: =IFERROR(IF(L12="N/A","1",LOOKUP(L12,{0,0.2,0.4,0.6,0.8,1},{1,2,3,4,5,6})),"-") -> - | O13: 2b | P13: 15.6
F14: Absolute | G14: =IF(G6="N/A","a",LOOKUP(G6,{0,201,1001,3001,5001,25001,75001,150001,300001},{"a","b","c","d","e","f","g","h","i"})) -> a | H14: =LOOKUP(H6,{0,201,1001,3001,5001,25001,75001,150001,300001},{"a","b","c","d","e","f","g","h","i"}) -> a | I14: =LOOKUP(I6,{0,201,1001,3001,5001,25001,75001,150001,300001},{"a","b","c","d","e","f","g","h","i"}) -> a | J14: =LOOKUP(J6,{0,201,1001,3001,5001,25001,75001,150001,300001},{"a","b","c","d","e","f","g","h","i"}) -> a | K14: =LOOKUP(K6,{0,201,1001,3001,5001,25001,75001,150001,300001},{"a","b","c","d","e","f","g","h","i"}) -> a | L14: =LOOKUP(L6,{0,201,1001,3001,5001,25001,75001,150001,300001},{"a","b","c","d","e","f","g","h","i"}) -> a | O14: 2c | P14: 14.55
F15: Rate ID | G15: =_xlfn.CONCAT(G13:G14) -> -a | H15: =_xlfn.CONCAT(H13:H14) -> -a | I15: =_xlfn.CONCAT(I13:I14) -> -a | J15: =_xlfn.CONCAT(J13:J14) -> -a | K15: =_xlfn.CONCAT(K13:K14) -> -a | L15: =_xlfn.CONCAT(L13:L14) -> -a | O15: 2d | P15: 14.05
F16: VBF Rate | G16: =IFERROR(_xlfn.XLOOKUP(G15,$O:$O,$P:$P),"-") -> - | H16: =IFERROR(_xlfn.XLOOKUP(H15,$O:$O,$P:$P),"-") -> - | I16: =IFERROR(_xlfn.XLOOKUP(I15,$O:$O,$P:$P),"-") -> - | J16: =IFERROR(_xlfn.XLOOKUP(J15,$O:$O,$P:$P),"-") -> - | K16: =IFERROR(_xlfn.XLOOKUP(K15,$O:$O,$P:$P),"-") -> - | L16: =IFERROR(_xlfn.XLOOKUP(L15,$O:$O,$P:$P),"-") -> - | O16: 2e | P16: 13.55
O17: 2f | P17: 12.5
F18: Gross VBF | G18: =IFERROR((G16*G6),"-") -> - | H18: =IFERROR((H16*H6),"-") -> - | I18: =IFERROR((I16*I6),"-") -> - | J18: =IFERROR((J16*J6),"-") -> - | K18: =IFERROR((K16*K6),"-") -> - | L18: =IFERROR((L16*L6),"-") -> - | O18: 2g | P18: 12.5
F19: PP VBF | G19: =IFERROR(IF('Scale-up tool'!D11="Application",Calculation!G22,'Scale-up tool'!D13),"-") -> 0 | H19: =IFERROR(IF((0.75*G18)<1000,"€ 0",0.75*G18),"-") -> - | I19: =IFERROR(IF((0.75*H18)<1000,"€ 0",0.75*H18),"-") -> - | J19: =IFERROR(IF((0.75*I18)<1000,"€ 0",0.75*I18),"-") -> - | K19: =IFERROR(IF((0.75*J18)<1000,"€ 0",0.75*J18),"-") -> - | L19: =IFERROR(IF((0.75*K18)<1000,"€ 0",0.75*K18),"-") -> - | O19: 2h | P19: 9.9
F20: Net VBF | G20: =IFERROR(IF(G18-G19<0,"€ 0",G18-G19),"-") -> - | H20: =IFERROR(IF(H18-H19<0,"€ 0",H18-H19),"-") -> - | I20: =IFERROR(IF(I18-I19<0,"€ 0",I18-I19),"-") -> - | J20: =IFERROR(IF(J18-J19<0,"€ 0",J18-J19),"-") -> - | K20: =IFERROR(IF(K18-K19<0,"€ 0",K18-K19),"-") -> - | L20: =IFERROR(IF(L18-L19<0,"€ 0",L18-L19),"-") -> - | O20: 2i | P20: 8.35
F22: Membership | G22: =LOOKUP(G4,{0,5000,20001,50001,125001},{7545,13170,23945,40110,59860}) -> 7545 | H22: =LOOKUP(H4,{0,5000,20001,50001,125001},{7545,13170,23945,40110,59860}) -> 7545 | I22: =LOOKUP(I4,{0,5000,20001,50001,125001},{7545,13170,23945,40110,59860}) -> 7545 | J22: =LOOKUP(J4,{0,5000,20001,50001,125001},{7545,13170,23945,40110,59860}) -> 7545 | K22: =LOOKUP(K4,{0,5000,20001,50001,125001},{7545,13170,23945,40110,59860}) -> 7545 | L22: =LOOKUP(L4,{0,5000,20001,50001,125001},{7545,13170,23945,40110,59860}) -> 7545 | O22: 3a | P22: 15.6
O23: 3b | P23: 14.55
F24: TRC fee | G24: =IF('Scale-up tool'!$D15=Calculation!G3,_xlfn.XLOOKUP(G22,$B4:$B9,$C4:$C9),"") | H24: =IF('Scale-up tool'!$D15=Calculation!H3,_xlfn.XLOOKUP(H22,$B4:$B9,$C4:$C9),"") | I24: =IF('Scale-up tool'!$D15=Calculation!I3,_xlfn.XLOOKUP(I22,$B4:$B9,$C4:$C9),"") | J24: =IF('Scale-up tool'!$D15=Calculation!J3,_xlfn.XLOOKUP(J22,$B4:$B9,$C4:$C9),"") | K24: =IF('Scale-up tool'!$D15=Calculation!K3,_xlfn.XLOOKUP(K22,$B4:$B9,$C4:$C9),"") | L24: =IF('Scale-up tool'!$D15=Calculation!L3,_xlfn.XLOOKUP(L22,$B4:$B9,$C4:$C9),"") | O24: 3c | P24: 13.55
O25: 3d | P25: 12.5
O26: 3e | P26: 11.95
O27: 3f | P27: 11.45
O28: 3g | P28: 11.45
O29: 3h | P29: 8.35
O30: 3i | P30: 7.3
O32: 4a | P32: 14.55
O33: 4b | P33: 13.55
O34: 4c | P34: 11.95
O35: 4d | P35: 11.45
O36: 4e | P36: 10.95
O37: 4f | P37: 10.4
... O60: 6i | P60: 5.7
